BEGIN:VCALENDAR
VERSION:2.0
PRODID:-//wp-events-plugin.com//7.2.3.1//EN
TZID:America/Chicago
X-WR-TIMEZONE:America/Chicago
BEGIN:VEVENT
UID:188@americanmetalroofswi.com
DTSTART;VALUE=DATE:20260116
DTEND;VALUE=DATE:20260119
DTSTAMP:20251229T161503Z
URL:https://www.americanmetalroofswi.com/events/fox-cities-home-garden-sho
 w-2/
SUMMARY:Fox Cities Home & Garden Show
DESCRIPTION:Fox Cities Home &amp\; Garden Show
CATEGORIES:Home Shows
LOCATION:Fox Cities Exhibition Center\, 355 W Lawrence St.\, Appleton\, 549
 11\, United States
GEO:44.260193;-88.409871
X-APPLE-STRUCTURED-LOCATION;VALUE=URI;X-ADDRESS=355 W Lawrence St.\, Applet
 on\, 54911\, United States;X-APPLE-RADIUS=100;X-TITLE=Fox Cities Exhibitio
 n Center:geo:44.260193,-88.409871
END:VEVENT
END:VCALENDAR