BEGIN:VCALENDAR
VERSION:2.0
PRODID:-//wp-events-plugin.com//7.2.3.1//EN
TZID:America/Chicago
X-WR-TIMEZONE:America/Chicago
BEGIN:VEVENT
UID:138@americanmetalroofswi.com
DTSTART;VALUE=DATE:20250221
DTEND;VALUE=DATE:20250224
DTSTAMP:20241211T185240Z
URL:https://www.americanmetalroofswi.com/events/hunting-fishing-expo/
SUMMARY:WI State Hunting & Fishing Expo
DESCRIPTION:Hunting &amp\; Fishing Expo
CATEGORIES:Home Shows
LOCATION:Resch Expo\, 840 Armed Forces Dr\, Ashwaubenon\, 54304\, United St
 ates
GEO:44.499136;-88.055341
X-APPLE-STRUCTURED-LOCATION;VALUE=URI;X-ADDRESS=840 Armed Forces Dr\, Ashwa
 ubenon\, 54304\, United States;X-APPLE-RADIUS=100;X-TITLE=Resch Expo:geo:4
 4.499136,-88.055341
END:VEVENT
END:VCALENDAR