BEGIN:VCALENDAR
VERSION:2.0
PRODID:-//wp-events-plugin.com//7.2.3.1//EN
TZID:America/Chicago
X-WR-TIMEZONE:America/Chicago
BEGIN:VEVENT
UID:193@americanmetalroofswi.com
DTSTART;VALUE=DATE:20260410
DTEND;VALUE=DATE:20260413
DTSTAMP:20251229T161504Z
URL:https://www.americanmetalroofswi.com/events/kiwanis-spring-expo/
SUMMARY:Kiwanis Spring Expo
DESCRIPTION:
CATEGORIES:Home Shows
LOCATION:UP State Fairgrounds 2401\, Ruth Butler Building\, 12th Ave N\, Es
 canaba\, MI\, 9829\, United States
GEO:45.760878;-87.075198
X-APPLE-STRUCTURED-LOCATION;VALUE=URI;X-ADDRESS=12th Ave N\, Escanaba\, MI\
 , 9829\, United States;X-APPLE-RADIUS=100;X-TITLE=UP State Fairgrounds 240
 1\, Ruth Butler Building:geo:45.760878,-87.075198
END:VEVENT
END:VCALENDAR